BEGIN:VCALENDAR
VERSION:2.0
PRODID:-//Allwork.Space - ECPv6.0.10//NONSGML v1.0//EN
CALSCALE:GREGORIAN
METHOD:PUBLISH
X-ORIGINAL-URL:https://allwork.space
X-WR-CALDESC:Events for Allwork.Space
REFRESH-INTERVAL;VALUE=DURATION:PT1H
X-Robots-Tag:noindex
X-PUBLISHED-TTL:PT1H
BEGIN:VTIMEZONE
TZID:America/Kentucky/Louisville
BEGIN:DAYLIGHT
TZOFFSETFROM:-0500
TZOFFSETTO:-0400
TZNAME:EDT
DTSTART:20240310T070000
END:DAYLIGHT
BEGIN:STANDARD
TZOFFSETFROM:-0400
TZOFFSETTO:-0500
TZNAME:EST
DTSTART:20241103T060000
END:STANDARD
END:VTIMEZONE
BEGIN:VEVENT
DTSTART;TZID=America/Kentucky/Louisville:20240318T080000
DTEND;TZID=America/Kentucky/Louisville:20240319T170000
DTSTAMP:20260423T203129
CREATED:20230905T050659Z
LAST-MODIFIED:20230905T050659Z
UID:1023902-1710748800-1710867600@allwork.space
SUMMARY:Gartner Digital Workplace Summit
DESCRIPTION:Gartner Digital Workplace Summit 2023 addressed the most significant challenges that digital workplace leaders face as they redefine the culture\, connection and creativity of work. \nAt the conference\, the top 5 priorities that digital workplace leaders discussed included how to: \n\nCreate a Digital Employee Experience\nChampion Digital Skills\nConnect Everything to Value\nDevelop Workforce Digital Dexterity\nFocus on talent to drive the Future of Work\n\nGather your team to maximize learning — participate in relevant sessions together\, or split up to cover more ground and share your take-aways later. Learn more about attending as a team. \n\n\n\n\n\n\nAttendees had access to 30 sessions of the latest Gartner research specifically designed to help digital workplace leaders meet the demands of the future. Each track had a particular area of focus that helped deliver what matters most to you and your organization.
URL:https://allwork.space/event/gartner-digital-workplace-summit-3/
LOCATION:Gaylord Texan Hotel & Convention Center\, 1501 Gaylord Trail\,Grapevine. Texas\, United States
CATEGORIES:Human Resources,Technology & Innovation
ATTACH;FMTTYPE=image/jpeg:https://allwork.space/wp-content/uploads/2023/09/Allwork.Space-6.jpg
END:VEVENT
BEGIN:VEVENT
DTSTART;TZID=America/Kentucky/Louisville:20240319T090000
DTEND;TZID=America/Kentucky/Louisville:20240319T160000
DTSTAMP:20260423T203129
CREATED:20240125T224606Z
LAST-MODIFIED:20240125T224606Z
UID:1026404-1710838800-1710864000@allwork.space
SUMMARY:Coworking Switzerland Annual Meetup 2024
DESCRIPTION:NATIONAL MEETUP & GENERAL ASSEMBLY @WESTHIVE BASEL ROSENTAL\n\n\n\nTHE SWISS COWORKING COMMUNITY MEETS\nON MARCH 19TH 2024 IN BASEL!\n\n\nJoin them for a day full of coworking spirit\, meet your peers from all across Switzerland (and maybe even beyond)\, exchange your ideas\, and make yourself heard in the General Assembly of the Coworking Switzerland Association. \nDetailled program tba.
URL:https://allwork.space/event/coworking-switzerland-annual-meetup-2024/
LOCATION:Westhive Basel Rosental\, Sandgrubentrasse\, Basel
CATEGORIES:Coworking & Flex Office
ATTACH;FMTTYPE=image/jpeg:https://allwork.space/wp-content/uploads/2024/01/Coworking-Switzerland-Annual-Meetup-2024.jpg
END:VEVENT
END:VCALENDAR