BEGIN:VCALENDAR
VERSION:2.0
PRODID:-//Allwork.Space - ECPv6.0.10//NONSGML v1.0//EN
CALSCALE:GREGORIAN
METHOD:PUBLISH
X-WR-CALNAME:Allwork.Space
X-ORIGINAL-URL:https://allwork.space
X-WR-CALDESC:Events for Allwork.Space
REFRESH-INTERVAL;VALUE=DURATION:PT1H
X-Robots-Tag:noindex
X-PUBLISHED-TTL:PT1H
BEGIN:VTIMEZONE
TZID:America/Kentucky/Louisville
BEGIN:DAYLIGHT
TZOFFSETFROM:-0500
TZOFFSETTO:-0400
TZNAME:EDT
DTSTART:20250309T070000
END:DAYLIGHT
BEGIN:STANDARD
TZOFFSETFROM:-0400
TZOFFSETTO:-0500
TZNAME:EST
DTSTART:20251102T060000
END:STANDARD
END:VTIMEZONE
BEGIN:VEVENT
DTSTART;VALUE=DATE:20250114
DTEND;VALUE=DATE:20250115
DTSTAMP:20260423T042931
CREATED:20250110T185141Z
LAST-MODIFIED:20250110T191027Z
UID:1033299-1736812800-1736899199@allwork.space
SUMMARY:Reclaiming Your Focus in a World Designed to Distract You with Dr. Gloria Mark | NEW EPISODE!
DESCRIPTION:Join us for an enlightening episode of The Future of Work® Podcast with our special guest\, Dr. Gloria Mark\, Chancellor’s Professor Emerita at the University of California\, Irvine\, and acclaimed author of Attention Span.  \nScheduled for Tuesday\, January 14\, 2025\, this episode addresses the challenges of maintaining focus in today’s fast-paced digital landscape.   \nDr. Mark will share insights from over two decades of research into how digital media impacts our multitasking\, productivity\, and overall well-being. With her extensive experience as a visiting senior researcher at Microsoft Research and her recognition as a leader in Human-Computer Interaction\, Dr. Mark offers strategies to help professionals reclaim their focus and foster balance in an increasingly distracted world.  \nIn this episode\, we’ll explore actionable solutions to combat attention fatigue and discover how workplaces can adapt to support healthier digital habits.  \nWhether you’re a remote worker\, a team leader\, or simply navigating the complexities of the digital age\, this conversation promises invaluable takeaways for improving productivity and mental clarity.  \nWhat You’ll Learn: \n\nThe surprising science behind our 47-second attention spans and their impact on productivity and mental health. \nThe hidden costs of multitasking\, including increased errors\, longer task completion times\, and heightened stress. \nPractical strategies to cultivate meta-awareness and build intentional digital habits. \nHow attentional rhythms ebb and flow throughout the day\, and how to structure tasks for peak productivity. \nThe benefits of implementing quiet time in workplaces to restore cognitive resources and foster creativity. \n\nMark your calendar and tune in for this transformative discussion on the future of attention in the workplace!  \n 
URL:https://allwork.space/event/reclaiming-your-focus-in-a-world-designed-to-distract-you-with-dr-gloria-mark/
CATEGORIES:Workplace Wellness
ATTACH;FMTTYPE=image/jpeg:https://allwork.space/wp-content/uploads/2025/01/Dr.-Gloria-Mark.jpg
END:VEVENT
BEGIN:VEVENT
DTSTART;VALUE=DATE:20250121
DTEND;VALUE=DATE:20250122
DTSTAMP:20260423T042931
CREATED:20250117T205339Z
LAST-MODIFIED:20250117T205457Z
UID:1033470-1737417600-1737503999@allwork.space
SUMMARY:Rethinking Work: Adapt\, Grow & Succeed with Rishad Tobaccowala | NEW EPISODE!
DESCRIPTION:Join us on Tuesday\, January 21\, 2025\, as The Future of Work® Podcast explores the  forces shaping the modern workplace. In this special episode\, host Frank Cottle sits down with renowned marketing visionary Rishad Tobaccowala to explore the dynamic interplay of technology\, talent\, and societal shifts.  \nRishad shares thought-provoking insights on how organizations and individuals can thrive by embracing flexibility\, leveraging AI\, and cultivating fostering leadership that resonates with today’s workforce.  \nWhether you’re a business leader\, HR professional\, or curious about the evolving world of work\, this event offers invaluable strategies to stay ahead in a rapidly changing landscape.  \nDon’t miss this opportunity to gain actionable knowledge and engage in meaningful discussions about the future of work.  \nDiscover how early adopters can strategically navigate technological changes\, why leadership must adapt beyond traditional structures\, and how multigenerational teams can unite around shared goals.  \nPrepare to rethink\, reinvent\, and lead with purpose in this unmissable conversation that will empower you to drive innovation and growth in your career and organization.  \nKey Takeaways: \n\nUnderstand how technology and talent synergize to drive innovation and reshape industries. \nExplore why AI is poised to revolutionize knowledge-based work and global markets. \nLearn how flexible work models and adaptive leadership are critical for organizational success. \nDiscover strategies for bridging generational gaps in the workplace to foster collaboration. \nGain insights into cultivating resilience and adaptability through Rishad’s Reinvent\, Rethink\, and Resurrect framework. 
URL:https://allwork.space/event/rethinking-work-adapt-grow-succeed-with-rishad-tobaccowala/
ATTACH;FMTTYPE=image/jpeg:https://allwork.space/wp-content/uploads/2025/01/Rishad-Tobaccowala.jpg
END:VEVENT
BEGIN:VEVENT
DTSTART;VALUE=DATE:20250128
DTEND;VALUE=DATE:20250129
DTSTAMP:20260423T042931
CREATED:20250123T221308Z
LAST-MODIFIED:20250124T211553Z
UID:1033554-1738022400-1738108799@allwork.space
SUMMARY:The Freelancer Advantage in an AI World with Dr. Kelly Monahan | NEW EPISODE!
DESCRIPTION:Join us on Tuesday\, January 28\, 2025\, for an exclusive live podcast event featuring a conversation with\nDr. Kelly Monahan\, founder of the Upwork Research Institute and a leading voice in work trends\, remote strategies\, and AI integration. In this episode\, Dr. Monahan explores the intersection of technology\, education\, and the workforce\, sharing how freelancing is reshaping industries and challenging traditional work structures.   \nFrom discourse around the growing importance of human-centric skills to the rise of gray-collar roles\, this episode is packed with actionable insights for leaders\, freelancers\, and anyone navigating today’s rapidly shifting work landscape.  \nDuring the episode\, you’ll get an insider look at how AI is transforming workplace collaboration\, hear candid stories about leadership’s role in the freelance economy\, and gain a new perspective on the relevance of traditional education in a skills-based future. Whether you’re a business leader\, freelancer\, or just curious about where work is headed\, this conversation will leave you inspired and equipped with practical knowledge for the future of work. Don’t miss it!  \n5 Things You’ll Learn During the Episode: \n\nThe Role of Human-Centric Skills in an AI-Driven World: Understand why adaptability\, resilience\, and curiosity are more critical than ever as AI reshapes industries. \nHow Freelancers Are Bridging the Skills Gap: Explore how leaders can leverage the freelance economy to address evolving organizational needs. \nRethinking Education for a Skills-Based Economy: Gain insights into the changing value of traditional degrees versus niche\, tech-driven skills. \nThe Growth of the Gray-Collar Workforce: Learn about the rise of hybrid roles that blend technical expertise with hands-on trade skills. \nLeadership in the Freelance Era: Discover the mindset shifts leaders need to integrate freelancers into corporate culture effectively. \n\nSave the date and prepare to rethink what you know about the future of work. We can’t wait to see you there! 
URL:https://allwork.space/event/the-freelancer-advantage-in-an-ai-world-with-dr-kelly-monahan-new-episode/
ATTACH;FMTTYPE=image/jpeg:https://allwork.space/wp-content/uploads/2025/01/Dr.-Kelly-Monahan.jpg
END:VEVENT
END:VCALENDAR