BEGIN:VCALENDAR
VERSION:2.0
PRODID:-//Allwork.Space - ECPv6.0.10//NONSGML v1.0//EN
CALSCALE:GREGORIAN
METHOD:PUBLISH
X-WR-CALNAME:Allwork.Space
X-ORIGINAL-URL:https://allwork.space
X-WR-CALDESC:Events for Allwork.Space
REFRESH-INTERVAL;VALUE=DURATION:PT1H
X-Robots-Tag:noindex
X-PUBLISHED-TTL:PT1H
BEGIN:VTIMEZONE
TZID:America/Kentucky/Louisville
BEGIN:DAYLIGHT
TZOFFSETFROM:-0500
TZOFFSETTO:-0400
TZNAME:EDT
DTSTART:20250309T070000
END:DAYLIGHT
BEGIN:STANDARD
TZOFFSETFROM:-0400
TZOFFSETTO:-0500
TZNAME:EST
DTSTART:20251102T060000
END:STANDARD
END:VTIMEZONE
BEGIN:VEVENT
DTSTART;VALUE=DATE:20250715
DTEND;VALUE=DATE:20250716
DTSTAMP:20260422T180340
CREATED:20250711T174404Z
LAST-MODIFIED:20250711T174417Z
UID:1037304-1752537600-1752623999@allwork.space
SUMMARY:Can Workplace Design Cure Loneliness At The Office? With Amber Wernick
DESCRIPTION:Join us this Tuesday for a new episode of The Future of Work® Podcast featuring Amber Wernick\, Practice Development Leader at Perkins&Will. With over 15 years of experience in designing workplaces for companies like lululemon and Clive Wilkinson\, Amber explores how thoughtful design is shaping the modern office — turning it from a productivity zone into a hub for belonging\, creativity\, and strategic flexibility.  \nThis episode dives into how companies of all sizes\, from startups to global enterprises\, can adapt their physical spaces to meet the emotional and operational needs of a post-pandemic workforce. From building flexibility into leases\, to modular\, sustainable design solutions\, Amber shares real-world strategies leaders can apply today to prepare for tomorrow.  \nWhat You’ll Learn\n\nHow office design can reduce isolation and foster connection \nWhat “functional inconvenience” means and how it builds community \nThe evolving role of corporate headquarters as cultural centers \nPractical\, scalable design solutions for small businesses \nHow flexible space models are disrupting traditional CRE thinking 
URL:https://allwork.space/event/can-workplace-design-cure-loneliness-at-the-office-with-amber-wernick/
CATEGORIES:Workplace Design
ATTACH;FMTTYPE=image/jpeg:https://allwork.space/wp-content/uploads/2025/07/Amber-Wernick.jpg
END:VEVENT
BEGIN:VEVENT
DTSTART;VALUE=DATE:20250722
DTEND;VALUE=DATE:20250723
DTSTAMP:20260422T180340
CREATED:20250718T211425Z
LAST-MODIFIED:20250718T211545Z
UID:1037530-1753142400-1753228799@allwork.space
SUMMARY:How To Catch a Breath in the Age of Burnout with Kurtis Lee Thomas
DESCRIPTION:Next Tuesday on The Future of Work® Podcast\, we explore one of the most overlooked tools for combatting burnout at work: the breath. Join us for a powerful conversation with Kurtis Lee Thomas\, founder of the Breathwork Detox modality and Just Breathe Foundation\, as he breaks down how breathwork is helping Fortune 500 leaders\, NASA engineers\, and everyday employees relieve stress and unlock energy.  \nVoted the #1 Employee Wellbeing Provider by HR Magazine and featured on The Today Show\, Kurtis shares how companies can go beyond beanbags and truly invest in the mental health of their teams. This episode is for forward-thinking leaders who understand that wellness is no longer a perk — it’s a performance strategy.  \nWhat You’ll Learn \n\nWhy trauma and stress live in the body — and how breathwork releases them \n\n\nReal ROI data on wellness investments in the workplace \n\n\nDaily breathing tools you can use right at your desk \n\n\nWhat Gen Z expects from future workplace wellness \n\n\nWhy company retreats and mindfulness booths may be the next big thing \n\nAbout Kurtis Lee Thomas\nKurtis Lee Thomas is the founder of Breathwork Detox and Just Breathe Foundation\, working with organizations like Nike and NASA to address the global mental health crisis. He joins Daniel Lamadrid\, Associate Publisher of Allwork.Space and host of The Future of Work® Podcast\, to explore how we can radically rethink wellness in modern work environments. 
URL:https://allwork.space/event/how-to-catch-a-breath-in-the-age-of-burnout-with-kurtis-lee-thomas/
CATEGORIES:Workplace Wellness
ATTACH;FMTTYPE=image/jpeg:https://allwork.space/wp-content/uploads/2025/07/Kurtis-Lee-Thomas.jpg
END:VEVENT
BEGIN:VEVENT
DTSTART;VALUE=DATE:20250729
DTEND;VALUE=DATE:20250730
DTSTAMP:20260422T180340
CREATED:20250718T214945Z
LAST-MODIFIED:20250722T022138Z
UID:1037542-1753747200-1753833599@allwork.space
SUMMARY:How AI Is Reshaping Freelance Work with Dave Bottoms
DESCRIPTION:Join us on Tuesday July 29 for a powerful new episode of The Future of Work® Podcast\, where we explore how AI is revolutionizing the freelance economy with Dave Bottoms\, SVP of Product & GM of Marketplace at Upwork. With decades of experience building products at Meta\, Dropbox\, and Yahoo\, Dave shares how platforms like Upwork are transforming into AI-enhanced ecosystems that empower solopreneurs\, freelancers\, and global teams.  \nThis conversation goes far beyond product updates. We discuss the future of agentic AI\, the rise of fractional executives\, and how businesses can now scale without ever hiring a full-time employee. Whether you’re building a team or building your own career\, this episode will change the way you think about work.  \nWhat You’ll Learn\n\nWhy freelancers need AI tools to compete \n\n\nHow Upwork’s UMA is transforming proposals and interviews \n\n\nThe growing role of fractional leaders in global companies \n\n\nHow AI can match the right talent with the right job—instantly \n\n\nWhat solopreneurs can learn from Upwork’s agentic model \n\nAbout Dave Bottoms\nDave Bottoms is SVP of Product & GM of Marketplace at Upwork\, leading product\, engineering\, marketing\, and design across the platform. With 20+ years of experience at Meta\, Dropbox\, and Yahoo\, Dave has overseen the development of products used by millions. In this conversation with podcast host Frank Cottle\, CEO of Alliance Business Centers\, Dave shares what’s next in AI-enabled work and why Upwork is betting big on a borderless\, freelance-first future. 
URL:https://allwork.space/event/how-ai-is-reshaping-freelance-work-with-dave-bottoms-2/
CATEGORIES:Career Growth
ATTACH;FMTTYPE=image/jpeg:https://allwork.space/wp-content/uploads/2025/07/How-AI-Is-Reshaping-Freelance-Work-with-Dave-Bottoms-2.jpg
END:VEVENT
END:VCALENDAR