BEGIN:VCALENDAR
VERSION:2.0
PRODID:-//Allwork.Space - ECPv6.0.10//NONSGML v1.0//EN
CALSCALE:GREGORIAN
METHOD:PUBLISH
X-ORIGINAL-URL:https://allwork.space
X-WR-CALDESC:Events for Allwork.Space
REFRESH-INTERVAL;VALUE=DURATION:PT1H
X-Robots-Tag:noindex
X-PUBLISHED-TTL:PT1H
BEGIN:VTIMEZONE
TZID:America/Kentucky/Louisville
BEGIN:DAYLIGHT
TZOFFSETFROM:-0500
TZOFFSETTO:-0400
TZNAME:EDT
DTSTART:20240310T070000
END:DAYLIGHT
BEGIN:STANDARD
TZOFFSETFROM:-0400
TZOFFSETTO:-0500
TZNAME:EST
DTSTART:20241103T060000
END:STANDARD
END:VTIMEZONE
BEGIN:VEVENT
DTSTART;VALUE=DATE:20241112
DTEND;VALUE=DATE:20241113
DTSTAMP:20260425T122456
CREATED:20241108T213506Z
LAST-MODIFIED:20241111T163120Z
UID:1032394-1731369600-1731455999@allwork.space
SUMMARY:Turning Impostor Syndrome Moments into Leadership Strengths | New Episode with Dr. Valerie Young
DESCRIPTION:Join us on Tuesday\, November 12\, 2024\, for an insightful new episode of The Future of Work® Podcast. \nAn enlightening conversation centered on unlocking authentic confidence and conquering impostor syndrome. Inspired by the latest episode of ‘The Future of Work® Podcast\,’ this episode is a unique opportunity to delve deep into the concept of impostor syndrome with leading expert Dr. Valerie Young. Known worldwide for her groundbreaking work\, Dr. Young has guided people from NASA to Google in overcoming self-doubt and embracing their true capabilities. \nThe day will be packed with thought-provoking discussions\, and actionable insights designed to help you shift from feeling like an impostor to living with unshakable self-assurance. \nWhether you’re a seasoned professional or just starting your career\, this episode is designed to equip you with the tools to reframe your mindset\, transform self-doubt into growth\, and move forward with genuine confidence. You’ll learn how to recognize impostor feelings as passing moments rather than defining characteristics and start leading in life and work with authenticity. \nDon’t miss this chance to reshape your thinking\, share experiences with like-minded individuals\, and gain insights from one of the foremost voices in impostor syndrome research. \nKey Takeaways: \n\nUnderstand the roots of impostor syndrome and why capable people often experience it.\nLearn strategies to recognize impostor feelings as temporary moments rather than a fixed mindset.\nDiscover how to cultivate authentic confidence in both personal and professional life.\nGain practical tools for shifting self-doubt into actionable steps toward growth and success.\nExplore real-life stories and insights from Dr. Valerie Young’s work with top organizations.\n\nIn the meantime\, tune in to recent conversations we’ve had with other experts\, visionaries and thought leaders:
URL:https://allwork.space/event/turning-impostor-syndrome-moments-into-leadership-strengths-new-episode-with-dr-valerie-young/
CATEGORIES:Workplace Wellness
ATTACH;FMTTYPE=image/jpeg:https://allwork.space/wp-content/uploads/2024/11/Dr.-Valerie-Young.jpg
END:VEVENT
END:VCALENDAR